BEGIN:VCALENDAR
VERSION:2.0
PRODID:-//Husaynia Islamic Society of Seattle - ECPv5.16.4//NONSGML v1.0//EN
CALSCALE:GREGORIAN
METHOD:PUBLISH
X-ORIGINAL-URL:https://www.husaynia.org
X-WR-CALDESC:Events for Husaynia Islamic Society of Seattle
REFRESH-INTERVAL;VALUE=DURATION:PT1H
X-Robots-Tag:noindex
X-PUBLISHED-TTL:PT1H
BEGIN:VTIMEZONE
TZID:UTC
BEGIN:STANDARD
TZOFFSETFROM:+0000
TZOFFSETTO:+0000
TZNAME:UTC
DTSTART:20260101T000000
END:STANDARD
END:VTIMEZONE
BEGIN:VEVENT
DTSTART;VALUE=DATE:20260831
DTEND;VALUE=DATE:20260901
DTSTAMP:20260425T034003
CREATED:20251212T053811Z
LAST-MODIFIED:20260425T053806Z
UID:53114-1788134400-1788220799@www.husaynia.org
SUMMARY:Birth of Umm Kulthum bint Ali
DESCRIPTION:Zaynab al-Sughra\, also known by her kunya Umm Kulthum bint Ali\, was the granddaughter of the Islamic prophet Muhammad and the daughter of Ali. Whether or not she married Umar is a controversial topic between Sunnis and Shia. She is given the epithet ‘the Younger’ to distinguish her from her older sister\, Zaynab the Elder. \nAdditional informationhttps://en.wikipedia.org/wiki/Umm_Kulthum_bint_Ali \nWikipedia content re-released under CC-BY-SA.https://creativecommons.org/licenses/by-sa/3.0/ \nThis calendar is provided by WebCal.Guru https://www.webcal.guru/. \nContent createdWed\, 22 Apr 2026 16:35:04 +0000 \nSubscription ID–
URL:https://www.husaynia.org/event/birth-of-umm-kulthum-bint-ali/
CATEGORIES:Islamic Important Date
ORGANIZER;CN="Husaynia%20Islamic%20Society%20of%20Seattle":MAILTO:noreply@facebookmail.com
END:VEVENT
END:VCALENDAR