BEGIN:VCALENDAR
VERSION:2.0
PRODID:-//Husaynia Islamic Society of Seattle - ECPv5.16.4//NONSGML v1.0//EN
CALSCALE:GREGORIAN
METHOD:PUBLISH
X-ORIGINAL-URL:https://www.husaynia.org
X-WR-CALDESC:Events for Husaynia Islamic Society of Seattle
REFRESH-INTERVAL;VALUE=DURATION:PT1H
X-Robots-Tag:noindex
X-PUBLISHED-TTL:PT1H
BEGIN:VTIMEZONE
TZID:UTC
BEGIN:STANDARD
TZOFFSETFROM:+0000
TZOFFSETTO:+0000
TZNAME:UTC
DTSTART:20260101T000000
END:STANDARD
END:VTIMEZONE
BEGIN:VEVENT
DTSTART;VALUE=DATE:20260817
DTEND;VALUE=DATE:20260818
DTSTAMP:20260425T083733
CREATED:20251212T053810Z
LAST-MODIFIED:20260425T053806Z
UID:53107-1786924800-1787011199@www.husaynia.org
SUMMARY:Martyrdom of Fatimah bint Musa
DESCRIPTION:Fatimah bint Musa\, commonly known as Fatimah al-Masumah was the daughter of the seventh Twelver Shia Imam\, Musa al-Kadhim and sister of the eighth Twelver Shia Imams\, Ali al-Rida. Every year\, millions of Shia Muslims travel to Qom to honor Fatima Masumeh at her shrine. \nAdditional informationhttps://en.wikipedia.org/wiki/Fatimah_bint_Musa \nWikipedia content re-released under CC-BY-SA.https://creativecommons.org/licenses/by-sa/3.0/ \nThis calendar is provided by WebCal.Guru https://www.webcal.guru/. \nContent createdWed\, 22 Apr 2026 16:35:04 +0000 \nSubscription ID–
URL:https://www.husaynia.org/event/martyrdom-of-fatimah-bint-musa/
CATEGORIES:Islamic Important Date
ORGANIZER;CN="Husaynia%20Islamic%20Society%20of%20Seattle":MAILTO:noreply@facebookmail.com
END:VEVENT
BEGIN:VEVENT
DTSTART;VALUE=DATE:20260821
DTEND;VALUE=DATE:20260822
DTSTAMP:20260425T083733
CREATED:20251212T053810Z
LAST-MODIFIED:20260425T053806Z
UID:53108-1787270400-1787356799@www.husaynia.org
SUMMARY:Martyrdom of Hasan al-Askari\, 260 AH
DESCRIPTION:Hasan ibn Ali al-Askari was a Muslim scholar and the 11th Imam in Twelver Shia Islam\, after his father Ali al-Hadi. He is also an important figure to Sunni-Sufis. He was called Abu Muhammad and Ibn al-Ridha. Because Samarra\, the city where he lived\, was a garrison town\, he is generally known as al-Askari. Al-Askari married Narjis Khatun and was kept under house arrest or in prison for most of his life. According to some Shia sources\, he was poisoned at the age of 28 on the orders of the Abbasid caliph Al-Mu’tamid and was buried in Samarra. The Twelver Shia are looking forward to the succession of his son\, Hujjat-Allah al-Mahdi\, as they believe him to be the twelfth Imam\, and that he is destined to remove injustice from the world. \nAdditional informationhttps://en.wikipedia.org/wiki/Hasan_al-Askari \nWikipedia content re-released under CC-BY-SA.https://creativecommons.org/licenses/by-sa/3.0/ \nThis calendar is provided by WebCal.Guru https://www.webcal.guru/. \nContent createdWed\, 22 Apr 2026 16:35:04 +0000 \nSubscription ID–
URL:https://www.husaynia.org/event/martyrdom-of-hasan-al-askari-260-ah/
CATEGORIES:Islamic Important Date
ORGANIZER;CN="Husaynia%20Islamic%20Society%20of%20Seattle":MAILTO:noreply@facebookmail.com
END:VEVENT
BEGIN:VEVENT
DTSTART;VALUE=DATE:20260822
DTEND;VALUE=DATE:20260823
DTSTAMP:20260425T083733
CREATED:20251212T053810Z
LAST-MODIFIED:20260425T053806Z
UID:53109-1787356800-1787443199@www.husaynia.org
SUMMARY:Eid-e-Zahra
DESCRIPTION:Omar Koshan\, also known as Jashn-e Hazrat-e Zahra or Eid-e-Shuja’ is a festival held by some Twelver Shi’a Muslims in Iran\, commemorating the assassination of the second caliph Umar ibn al-Khattab by the Persian slave Abu Lu’lu’a Firuz. \nAdditional informationhttps://en.wikipedia.org/wiki/Eid-e-Shuja%27 \nWikipedia content re-released under CC-BY-SA.https://creativecommons.org/licenses/by-sa/3.0/ \nThis calendar is provided by WebCal.Guru https://www.webcal.guru/. \nContent createdWed\, 22 Apr 2026 16:35:04 +0000 \nSubscription ID–
URL:https://www.husaynia.org/event/eid-e-zahra/
CATEGORIES:Islamic Important Date
ORGANIZER;CN="Husaynia%20Islamic%20Society%20of%20Seattle":MAILTO:noreply@facebookmail.com
END:VEVENT
END:VCALENDAR