BEGIN:VCALENDAR
VERSION:2.0
PRODID:-//Husaynia Islamic Society of Seattle - ECPv5.16.4//NONSGML v1.0//EN
CALSCALE:GREGORIAN
METHOD:PUBLISH
X-WR-CALNAME:Husaynia Islamic Society of Seattle
X-ORIGINAL-URL:https://www.husaynia.org
X-WR-CALDESC:Events for Husaynia Islamic Society of Seattle
REFRESH-INTERVAL;VALUE=DURATION:PT1H
X-Robots-Tag:noindex
X-PUBLISHED-TTL:PT1H
BEGIN:VTIMEZONE
TZID:UTC
BEGIN:STANDARD
TZOFFSETFROM:+0000
TZOFFSETTO:+0000
TZNAME:UTC
DTSTART:20260101T000000
END:STANDARD
END:VTIMEZONE
BEGIN:VEVENT
DTSTART;VALUE=DATE:20260803
DTEND;VALUE=DATE:20260804
DTSTAMP:20260425T063705
CREATED:20251024T173906Z
LAST-MODIFIED:20260425T053806Z
UID:52192-1785715200-1785801599@www.husaynia.org
SUMMARY:Ar'baeen
DESCRIPTION:– Ar’baeen– Chehlum \nArbaʽein\, Chehellom is a Shiite religious observance that occurs forty days after the Day of Ashura. It commemorates the martyrdom of Al-Husayn ibn Ali\, the grandson of Muhammad\, who was martyred on the 10th day of the month of Muharram. Al-Husayn ibn Ali and 71 of his companions were martyred by Ubayd Allah ibn Ziyad’s army in the Battle of Karbala in 61 AH. \nAdditional informationhttps://en.wikipedia.org/wiki/Arba%CA%BDeen \nWikipedia content re-released under CC-BY-SA.https://creativecommons.org/licenses/by-sa/3.0/ \nThis calendar is provided by WebCal.Guru https://www.webcal.guru/. \nContent createdWed\, 22 Apr 2026 16:35:04 +0000 \nSubscription ID–
URL:https://www.husaynia.org/event/arbaeen/
CATEGORIES:Islamic Important Date
ORGANIZER;CN="Husaynia%20Islamic%20Society%20of%20Seattle":MAILTO:noreply@facebookmail.com
END:VEVENT
END:VCALENDAR