BEGIN:VCALENDAR
VERSION:2.0
PRODID:-//Husaynia Islamic Society of Seattle - ECPv5.16.4//NONSGML v1.0//EN
CALSCALE:GREGORIAN
METHOD:PUBLISH
X-WR-CALNAME:Husaynia Islamic Society of Seattle
X-ORIGINAL-URL:https://www.husaynia.org
X-WR-CALDESC:Events for Husaynia Islamic Society of Seattle
REFRESH-INTERVAL;VALUE=DURATION:PT1H
X-Robots-Tag:noindex
X-PUBLISHED-TTL:PT1H
BEGIN:VTIMEZONE
TZID:UTC
BEGIN:STANDARD
TZOFFSETFROM:+0000
TZOFFSETTO:+0000
TZNAME:UTC
DTSTART:20260101T000000
END:STANDARD
END:VTIMEZONE
BEGIN:VEVENT
DTSTART;VALUE=DATE:20260622
DTEND;VALUE=DATE:20260623
DTSTAMP:20260424T082635
CREATED:20251212T053808Z
LAST-MODIFIED:20260424T053806Z
UID:53085-1782086400-1782172799@www.husaynia.org
SUMMARY:Stored water in the tents of the camp of Husayn ibn Ali runs out
DESCRIPTION:Al-Ḥusayn ibn ʿAlī ibn Abī Ṭālib\, also known as Abu Abd Allah or Imam Husayn\, was a grandson of the Islamic prophet Muhammad and a son of Ali ibn Abi Talib and Muhammad’s daughter Fatimah\, and a younger brother of Hasan ibn Ali. He is the third Shia Imam after his brother\, Hasan\, and before his son\, Zayn al-Abidin. He is considered a member of the Ahl al-Bayt as well as the Ahl al-Kisa\, and he was a participant in the event of Mubahala. Muhammad described Husayn and his brother\, Hasan\, as “the masters of the youth of Paradise.” \nAdditional informationhttps://en.wikipedia.org/wiki/Husayn_ibn_Ali \nWikipedia content re-released under CC-BY-SA.https://creativecommons.org/licenses/by-sa/3.0/ \nThis calendar is provided by WebCal.Guru https://www.webcal.guru/. \nContent createdWed\, 22 Apr 2026 16:35:04 +0000 \nSubscription ID–
URL:https://www.husaynia.org/event/stored-water-in-the-tents-of-the-camp-of-husayn-ibn-ali-runs-out/
CATEGORIES:Islamic Important Date
ORGANIZER;CN="Husaynia%20Islamic%20Society%20of%20Seattle":MAILTO:noreply@facebookmail.com
END:VEVENT
BEGIN:VEVENT
DTSTART;VALUE=DATE:20260624
DTEND;VALUE=DATE:20260625
DTSTAMP:20260424T082635
CREATED:20251212T053808Z
LAST-MODIFIED:20260424T053806Z
UID:53086-1782259200-1782345599@www.husaynia.org
SUMMARY:Eve of Ashura
DESCRIPTION:– Eve of Ashura– Tāsūʿā \nAshura is an Islamic holiday that occurs on the tenth day of Muharram\, the first month in the Islamic lunar calendar. For Muslims\, Ashura marks the day in which the Islamic prophet Musa was saved by Allah when He parted the Sea while leading the children of Israel to the land of Israel. Furthermore\, for Muslims\, it marks the day on which the Battle of Karbala took place\, resulting in the martyrdom of Husayn ibn Ali\, the grandson of the Islamic prophet Muhammad and a member of the Household of Muhammad. \nAdditional informationhttps://en.wikipedia.org/wiki/Ashura \nWikipedia content re-released under CC-BY-SA.https://creativecommons.org/licenses/by-sa/3.0/ \nThis calendar is provided by WebCal.Guru https://www.webcal.guru/. \nContent createdWed\, 22 Apr 2026 16:35:04 +0000 \nSubscription ID–
URL:https://www.husaynia.org/event/eve-of-ashura/
CATEGORIES:Islamic Important Date
ORGANIZER;CN="Husaynia%20Islamic%20Society%20of%20Seattle":MAILTO:noreply@facebookmail.com
END:VEVENT
BEGIN:VEVENT
DTSTART;VALUE=DATE:20260625
DTEND;VALUE=DATE:20260626
DTSTAMP:20260424T082635
CREATED:20251024T173847Z
LAST-MODIFIED:20260424T053806Z
UID:52177-1782345600-1782431999@www.husaynia.org
SUMMARY:Āshūrā
DESCRIPTION:– Āshūrā– Day of Ashura– عاشوراء‎ \nعاشوراء هو اليوم العاشر من شهر مُحَرَّم في التقويم الهجري، ويسمى عند المسلمين بيوم عاشوراء وهو اليوم الذي نجّىٰ الله فيه موسى من فرعون ويصادف اليوم الذي قتل فيه الحسين بن علي حفيد النبي محمد في معركة كربلاء، لذلك يعدّه الشيعة يوم عزاء وحزن. كما وقعت العديد من الأحداث التاريخية الأخرى في نفس اليوم. ويعدّ يوم عاشوراء عطلة رسمية في بعض الدول مثل إيران، باكستان، لبنان، البحرين، الهند ،العراق، المغرب والجزائر. ويعدّ صيام يوم عاشوراء سُنة عند أهل السنة والجماعة، وصيامه يُكفّر ذنوب سنة ماضية. \nAdditional informationhttps://ar.wikipedia.org/wiki/%D8%B9%D8%A7%D8%B4%D9%88%D8%B1%D8%A7%D8%A1 \nWikipedia content re-released under CC-BY-SA.https://creativecommons.org/licenses/by-sa/3.0/ \nThis calendar is provided by WebCal.Guru https://www.webcal.guru/. \nContent createdWed\, 22 Apr 2026 16:35:04 +0000 \nSubscription ID–
URL:https://www.husaynia.org/event/ashura/
CATEGORIES:Islamic Important Date
ORGANIZER;CN="Husaynia%20Islamic%20Society%20of%20Seattle":MAILTO:noreply@facebookmail.com
END:VEVENT
BEGIN:VEVENT
DTSTART;VALUE=DATE:20260625
DTEND;VALUE=DATE:20260626
DTSTAMP:20260424T082635
CREATED:20251212T053809Z
LAST-MODIFIED:20260424T053806Z
UID:53087-1782345600-1782431999@www.husaynia.org
SUMMARY:Day of Ashura
DESCRIPTION:Ashura is an Islamic holiday that occurs on the tenth day of Muharram\, the first month in the Islamic lunar calendar. For Muslims\, Ashura marks the day in which the Islamic prophet Musa was saved by Allah when He parted the Sea while leading the children of Israel to the land of Israel. Furthermore\, for Muslims\, it marks the day on which the Battle of Karbala took place\, resulting in the martyrdom of Husayn ibn Ali\, the grandson of the Islamic prophet Muhammad and a member of the Household of Muhammad. \nAdditional informationhttps://en.wikipedia.org/wiki/Day_of_Ashura \nWikipedia content re-released under CC-BY-SA.https://creativecommons.org/licenses/by-sa/3.0/ \nThis calendar is provided by WebCal.Guru https://www.webcal.guru/. \nContent createdWed\, 22 Apr 2026 16:35:04 +0000 \nSubscription ID–
URL:https://www.husaynia.org/event/day-of-ashura/
CATEGORIES:Islamic Important Date
ORGANIZER;CN="Husaynia%20Islamic%20Society%20of%20Seattle":MAILTO:noreply@facebookmail.com
END:VEVENT
BEGIN:VEVENT
DTSTART;VALUE=DATE:20260627
DTEND;VALUE=DATE:20260628
DTSTAMP:20260424T082635
CREATED:20251212T053809Z
LAST-MODIFIED:20260424T053806Z
UID:53089-1782518400-1782604799@www.husaynia.org
SUMMARY:Burial of the martyrs of Karbala by Bani Asad
DESCRIPTION:Banu Asad ibn Khuzaymah is an Arab tribe. They are Adnanite Arabs\, powerful and one of the most famous tribes. They are widely respected by many Arab tribes\, respected by Shia Muslims because they have buried the body of Husayn ibn Ali\, his family and companions with the help of Ali ibn Husayn Zayn al-Abidin\, the son of Husayn\, and many martyrs from the Battle of Karbala are from the tribe. Today\, many members of the tribe live in the Iraqi cities of Basra\, Najaf\, Kufa\, Karbala\, Nasiriyah\, Amarah\, Kut\, Hillah\, Diyala and Baghdad. There is a branch from the Banu Assad in Northern Sudan called Banu Kahil who have migrated from the Hijaz to Sudan. There are also members of Bani Assad tribe in Ahvaz in the Khuzestan of Iran located with neighboring tribes of Banu Tamim\, Bani Malik\, Banu Kaab and other notable Arab tribes. \nAdditional informationhttps://en.wikipedia.org/wiki/Banu_Asad_ibn_Khuzaymah \nWikipedia content re-released under CC-BY-SA.https://creativecommons.org/licenses/by-sa/3.0/ \nThis calendar is provided by WebCal.Guru https://www.webcal.guru/. \nContent createdWed\, 22 Apr 2026 16:35:04 +0000 \nSubscription ID–
URL:https://www.husaynia.org/event/burial-of-the-martyrs-of-karbala-by-bani-asad/
CATEGORIES:Islamic Important Date
ORGANIZER;CN="Husaynia%20Islamic%20Society%20of%20Seattle":MAILTO:noreply@facebookmail.com
END:VEVENT
END:VCALENDAR