BEGIN:VCALENDAR
VERSION:2.0
PRODID:-//Husaynia Islamic Society of Seattle - ECPv5.16.4//NONSGML v1.0//EN
CALSCALE:GREGORIAN
METHOD:PUBLISH
X-WR-CALNAME:Husaynia Islamic Society of Seattle
X-ORIGINAL-URL:https://www.husaynia.org
X-WR-CALDESC:Events for Husaynia Islamic Society of Seattle
REFRESH-INTERVAL;VALUE=DURATION:PT1H
X-Robots-Tag:noindex
X-PUBLISHED-TTL:PT1H
BEGIN:VTIMEZONE
TZID:UTC
BEGIN:STANDARD
TZOFFSETFROM:+0000
TZOFFSETTO:+0000
TZNAME:UTC
DTSTART:20260101T000000
END:STANDARD
END:VTIMEZONE
BEGIN:VEVENT
DTSTART;VALUE=DATE:20260616
DTEND;VALUE=DATE:20260617
DTSTAMP:20260424T064159
CREATED:20251024T173837Z
LAST-MODIFIED:20260424T053806Z
UID:52171-1781568000-1781654399@www.husaynia.org
SUMMARY:Mourning of Muharram starts
DESCRIPTION:The Mourning of Muharram is a set of commemoration rituals observed primarily by Shia and Sufism\, and marked by all Muslims\, The commemoration falls in Muharram\, the first month of the Islamic calendar. Many of the events associated with the ritual take place in congregation halls known as Hussainia. \nAdditional informationhttps://en.wikipedia.org/wiki/Mourning_of_Muharram \nWikipedia content re-released under CC-BY-SA.https://creativecommons.org/licenses/by-sa/3.0/ \nThis calendar is provided by WebCal.Guru https://www.webcal.guru/. \nContent createdWed\, 22 Apr 2026 16:35:04 +0000 \nSubscription ID–
URL:https://www.husaynia.org/event/mourning-of-muharram-starts/
CATEGORIES:Islamic Important Date
ORGANIZER;CN="Husaynia%20Islamic%20Society%20of%20Seattle":MAILTO:noreply@facebookmail.com
END:VEVENT
BEGIN:VEVENT
DTSTART;VALUE=DATE:20260617
DTEND;VALUE=DATE:20260618
DTSTAMP:20260424T064159
CREATED:20251024T173839Z
LAST-MODIFIED:20260424T053806Z
UID:52172-1781654400-1781740799@www.husaynia.org
SUMMARY:Arrival of Husayn ibn Ali in Karbalā\, 61 AH
DESCRIPTION:Al-Ḥusayn ibn ʿAlī ibn Abī Ṭālib\, also known as Abu Abd Allah or Imam Husayn\, was a grandson of the Islamic prophet Muhammad and a son of Ali ibn Abi Talib and Muhammad’s daughter Fatimah\, and a younger brother of Hasan ibn Ali. He is the third Shia Imam after his brother\, Hasan\, and before his son\, Zayn al-Abidin. He is considered a member of the Ahl al-Bayt as well as the Ahl al-Kisa\, and he was a participant in the event of Mubahala. Muhammad described Husayn and his brother\, Hasan\, as “the masters of the youth of Paradise.” \nAdditional informationhttps://en.wikipedia.org/wiki/Husayn_ibn_Ali \nWikipedia content re-released under CC-BY-SA.https://creativecommons.org/licenses/by-sa/3.0/ \nThis calendar is provided by WebCal.Guru https://www.webcal.guru/. \nContent createdWed\, 22 Apr 2026 16:35:04 +0000 \nSubscription ID–
URL:https://www.husaynia.org/event/arrival-of-husayn-ibn-ali-in-karbala-61-ah/
CATEGORIES:Islamic Important Date
ORGANIZER;CN="Husaynia%20Islamic%20Society%20of%20Seattle":MAILTO:noreply@facebookmail.com
END:VEVENT
BEGIN:VEVENT
DTSTART;VALUE=DATE:20260618
DTEND;VALUE=DATE:20260619
DTSTAMP:20260424T064159
CREATED:20251212T053808Z
LAST-MODIFIED:20260424T053806Z
UID:53084-1781740800-1781827199@www.husaynia.org
SUMMARY:Water supply to the camp of Husayn ibn Ali was stopped
DESCRIPTION:Al-Ḥusayn ibn ʿAlī ibn Abī Ṭālib\, also known as Abu Abd Allah or Imam Husayn\, was a grandson of the Islamic prophet Muhammad and a son of Ali ibn Abi Talib and Muhammad’s daughter Fatimah\, and a younger brother of Hasan ibn Ali. He is the third Shia Imam after his brother\, Hasan\, and before his son\, Zayn al-Abidin. He is considered a member of the Ahl al-Bayt as well as the Ahl al-Kisa\, and he was a participant in the event of Mubahala. Muhammad described Husayn and his brother\, Hasan\, as “the masters of the youth of Paradise.” \nAdditional informationhttps://en.wikipedia.org/wiki/Husayn_ibn_Ali \nWikipedia content re-released under CC-BY-SA.https://creativecommons.org/licenses/by-sa/3.0/ \nThis calendar is provided by WebCal.Guru https://www.webcal.guru/. \nContent createdWed\, 22 Apr 2026 16:35:04 +0000 \nSubscription ID–
URL:https://www.husaynia.org/event/water-supply-to-the-camp-of-husayn-ibn-ali-was-stopped/
CATEGORIES:Islamic Important Date
ORGANIZER;CN="Husaynia%20Islamic%20Society%20of%20Seattle":MAILTO:noreply@facebookmail.com
END:VEVENT
END:VCALENDAR