BEGIN:VCALENDAR
VERSION:2.0
PRODID:-//Husaynia Islamic Society of Seattle - ECPv5.16.4//NONSGML v1.0//EN
CALSCALE:GREGORIAN
METHOD:PUBLISH
X-WR-CALNAME:Husaynia Islamic Society of Seattle
X-ORIGINAL-URL:https://www.husaynia.org
X-WR-CALDESC:Events for Husaynia Islamic Society of Seattle
REFRESH-INTERVAL;VALUE=DURATION:PT1H
X-Robots-Tag:noindex
X-PUBLISHED-TTL:PT1H
BEGIN:VTIMEZONE
TZID:America/Los_Angeles
BEGIN:DAYLIGHT
TZOFFSETFROM:-0800
TZOFFSETTO:-0700
TZNAME:PDT
DTSTART:20250309T100000
END:DAYLIGHT
BEGIN:STANDARD
TZOFFSETFROM:-0700
TZOFFSETTO:-0800
TZNAME:PST
DTSTART:20251102T090000
END:STANDARD
END:VTIMEZONE
BEGIN:VEVENT
DTSTART;TZID=America/Los_Angeles:20251211T110000
DTEND;TZID=America/Los_Angeles:20251211T233000
DTSTAMP:20260424T083605
CREATED:20250731T191913Z
LAST-MODIFIED:20251001T092221Z
UID:47322-1765450800-1765495800@www.husaynia.org
SUMMARY:Global Donation Drive - Help Build Mosque 🕌
DESCRIPTION:Help Build a Mosque in Seattle WA USA.‐—————————————————————- \nJoin hands in building  a house of worship in Seattle WA USA. \nWe are launching a global fundraising campaign to build a mosque 🕌 that will serve the growing Muslim community in Seattle WA USA.  \nThis Mosque 🕌 will be more than a prayer space – it will be a center for community\, education and peace.  \n🙏 your contribution\, no matter how small\, can make a big value for Husaynia Islamic Society of Seattle Mosques! \n🏳 Donation are welcome from all around the world 🌎. \nDonate Securely via following details  \nWays to Donate to Husaynia Islamic Society of Seattle: \n1) Cheque or Cashier’s Check (Recommended)Payable to: Husaynia Islamic Society of Seattle  \n2) Direct Bank Transfer / Electronic Fund TransferTransfer to: Husaynia Account https://bit.ly/453UKDv \n3) Stock Donation via a Broker Account (No Fee)Donate appreciated stocks and potentially enjoy tax benefits.Contact us for broker details and assistance. \n4) Online Donation (Not Recommended)Donate via our website: https://husaynia.org/donateNote: A Stripe processing fee of 2.2% + $0.30 applies per transaction. \nMAY YOUR SUPPORT BE REWARDED ABUNDANTLY!———‐————————————————- \n“Whoever builds a mosque for the sake of Allah\, Allah will build for him a house in Paradise.”— Prophet Hazrat Muhammad (ﷺ) \nYour generosity is a form of Sadaqa-e-Jariya — a continuous charity that will bless you and future generations\, InshaAllah. \nJazakum Allah Kheir\,Husaynia Islamic Society of Seattle WA USA.https://www.husaynia.org \nhttps://www.facebook.com/events/4022649548064147/?event_time_id=4022698591392576
URL:https://www.husaynia.org/event/global-donation-drive-help-build-mosque-%f0%9f%95%8c-20/
CATEGORIES:Husaynia Event
ORGANIZER;CN="Husaynia%20Islamic%20Society%20of%20Seattle":MAILTO:noreply@facebookmail.com
END:VEVENT
BEGIN:VEVENT
DTSTART;TZID=America/Los_Angeles:20251204T110000
DTEND;TZID=America/Los_Angeles:20251204T233000
DTSTAMP:20260424T083605
CREATED:20250731T191913Z
LAST-MODIFIED:20251001T092217Z
UID:47321-1764846000-1764891000@www.husaynia.org
SUMMARY:Global Donation Drive - Help Build Mosque 🕌
DESCRIPTION:Help Build a Mosque in Seattle WA USA.‐—————————————————————- \nJoin hands in building  a house of worship in Seattle WA USA. \nWe are launching a global fundraising campaign to build a mosque 🕌 that will serve the growing Muslim community in Seattle WA USA.  \nThis Mosque 🕌 will be more than a prayer space – it will be a center for community\, education and peace.  \n🙏 your contribution\, no matter how small\, can make a big value for Husaynia Islamic Society of Seattle Mosques! \n🏳 Donation are welcome from all around the world 🌎. \nDonate Securely via following details  \nWays to Donate to Husaynia Islamic Society of Seattle: \n1) Cheque or Cashier’s Check (Recommended)Payable to: Husaynia Islamic Society of Seattle  \n2) Direct Bank Transfer / Electronic Fund TransferTransfer to: Husaynia Account https://bit.ly/453UKDv \n3) Stock Donation via a Broker Account (No Fee)Donate appreciated stocks and potentially enjoy tax benefits.Contact us for broker details and assistance. \n4) Online Donation (Not Recommended)Donate via our website: https://husaynia.org/donateNote: A Stripe processing fee of 2.2% + $0.30 applies per transaction. \nMAY YOUR SUPPORT BE REWARDED ABUNDANTLY!———‐————————————————- \n“Whoever builds a mosque for the sake of Allah\, Allah will build for him a house in Paradise.”— Prophet Hazrat Muhammad (ﷺ) \nYour generosity is a form of Sadaqa-e-Jariya — a continuous charity that will bless you and future generations\, InshaAllah. \nJazakum Allah Kheir\,Husaynia Islamic Society of Seattle WA USA.https://www.husaynia.org \nhttps://www.facebook.com/events/4022649548064147/?event_time_id=4022698581392577
URL:https://www.husaynia.org/event/global-donation-drive-help-build-mosque-%f0%9f%95%8c-19/
CATEGORIES:Husaynia Event
ORGANIZER;CN="Husaynia%20Islamic%20Society%20of%20Seattle":MAILTO:noreply@facebookmail.com
END:VEVENT
BEGIN:VEVENT
DTSTART;TZID=America/Los_Angeles:20251127T110000
DTEND;TZID=America/Los_Angeles:20251127T233000
DTSTAMP:20260424T083605
CREATED:20250731T191913Z
LAST-MODIFIED:20251001T092217Z
UID:47320-1764241200-1764286200@www.husaynia.org
SUMMARY:Global Donation Drive - Help Build Mosque 🕌
DESCRIPTION:Help Build a Mosque in Seattle WA USA.‐—————————————————————- \nJoin hands in building  a house of worship in Seattle WA USA. \nWe are launching a global fundraising campaign to build a mosque 🕌 that will serve the growing Muslim community in Seattle WA USA.  \nThis Mosque 🕌 will be more than a prayer space – it will be a center for community\, education and peace.  \n🙏 your contribution\, no matter how small\, can make a big value for Husaynia Islamic Society of Seattle Mosques! \n🏳 Donation are welcome from all around the world 🌎. \nDonate Securely via following details  \nWays to Donate to Husaynia Islamic Society of Seattle: \n1) Cheque or Cashier’s Check (Recommended)Payable to: Husaynia Islamic Society of Seattle  \n2) Direct Bank Transfer / Electronic Fund TransferTransfer to: Husaynia Account https://bit.ly/453UKDv \n3) Stock Donation via a Broker Account (No Fee)Donate appreciated stocks and potentially enjoy tax benefits.Contact us for broker details and assistance. \n4) Online Donation (Not Recommended)Donate via our website: https://husaynia.org/donateNote: A Stripe processing fee of 2.2% + $0.30 applies per transaction. \nMAY YOUR SUPPORT BE REWARDED ABUNDANTLY!———‐————————————————- \n“Whoever builds a mosque for the sake of Allah\, Allah will build for him a house in Paradise.”— Prophet Hazrat Muhammad (ﷺ) \nYour generosity is a form of Sadaqa-e-Jariya — a continuous charity that will bless you and future generations\, InshaAllah. \nJazakum Allah Kheir\,Husaynia Islamic Society of Seattle WA USA.https://www.husaynia.org \nhttps://www.facebook.com/events/4022649548064147/?event_time_id=4022698588059243
URL:https://www.husaynia.org/event/global-donation-drive-help-build-mosque-%f0%9f%95%8c-18/
CATEGORIES:Husaynia Event
ORGANIZER;CN="Husaynia%20Islamic%20Society%20of%20Seattle":MAILTO:noreply@facebookmail.com
END:VEVENT
BEGIN:VEVENT
DTSTART;TZID=America/Los_Angeles:20251120T110000
DTEND;TZID=America/Los_Angeles:20251120T233000
DTSTAMP:20260424T083605
CREATED:20250731T191912Z
LAST-MODIFIED:20251001T092217Z
UID:47319-1763636400-1763681400@www.husaynia.org
SUMMARY:Global Donation Drive - Help Build Mosque 🕌
DESCRIPTION:Help Build a Mosque in Seattle WA USA.‐—————————————————————- \nJoin hands in building  a house of worship in Seattle WA USA. \nWe are launching a global fundraising campaign to build a mosque 🕌 that will serve the growing Muslim community in Seattle WA USA.  \nThis Mosque 🕌 will be more than a prayer space – it will be a center for community\, education and peace.  \n🙏 your contribution\, no matter how small\, can make a big value for Husaynia Islamic Society of Seattle Mosques! \n🏳 Donation are welcome from all around the world 🌎. \nDonate Securely via following details  \nWays to Donate to Husaynia Islamic Society of Seattle: \n1) Cheque or Cashier’s Check (Recommended)Payable to: Husaynia Islamic Society of Seattle  \n2) Direct Bank Transfer / Electronic Fund TransferTransfer to: Husaynia Account https://bit.ly/453UKDv \n3) Stock Donation via a Broker Account (No Fee)Donate appreciated stocks and potentially enjoy tax benefits.Contact us for broker details and assistance. \n4) Online Donation (Not Recommended)Donate via our website: https://husaynia.org/donateNote: A Stripe processing fee of 2.2% + $0.30 applies per transaction. \nMAY YOUR SUPPORT BE REWARDED ABUNDANTLY!———‐————————————————- \n“Whoever builds a mosque for the sake of Allah\, Allah will build for him a house in Paradise.”— Prophet Hazrat Muhammad (ﷺ) \nYour generosity is a form of Sadaqa-e-Jariya — a continuous charity that will bless you and future generations\, InshaAllah. \nJazakum Allah Kheir\,Husaynia Islamic Society of Seattle WA USA.https://www.husaynia.org \nhttps://www.facebook.com/events/4022649548064147/?event_time_id=4022698578059244
URL:https://www.husaynia.org/event/global-donation-drive-help-build-mosque-%f0%9f%95%8c-17/
CATEGORIES:Husaynia Event
ORGANIZER;CN="Husaynia%20Islamic%20Society%20of%20Seattle":MAILTO:noreply@facebookmail.com
END:VEVENT
BEGIN:VEVENT
DTSTART;TZID=America/Los_Angeles:20251113T110000
DTEND;TZID=America/Los_Angeles:20251113T233000
DTSTAMP:20260424T083605
CREATED:20250731T191912Z
LAST-MODIFIED:20251001T092212Z
UID:47318-1763031600-1763076600@www.husaynia.org
SUMMARY:Global Donation Drive - Help Build Mosque 🕌
DESCRIPTION:Help Build a Mosque in Seattle WA USA.‐—————————————————————- \nJoin hands in building  a house of worship in Seattle WA USA. \nWe are launching a global fundraising campaign to build a mosque 🕌 that will serve the growing Muslim community in Seattle WA USA.  \nThis Mosque 🕌 will be more than a prayer space – it will be a center for community\, education and peace.  \n🙏 your contribution\, no matter how small\, can make a big value for Husaynia Islamic Society of Seattle Mosques! \n🏳 Donation are welcome from all around the world 🌎. \nDonate Securely via following details  \nWays to Donate to Husaynia Islamic Society of Seattle: \n1) Cheque or Cashier’s Check (Recommended)Payable to: Husaynia Islamic Society of Seattle  \n2) Direct Bank Transfer / Electronic Fund TransferTransfer to: Husaynia Account https://bit.ly/453UKDv \n3) Stock Donation via a Broker Account (No Fee)Donate appreciated stocks and potentially enjoy tax benefits.Contact us for broker details and assistance. \n4) Online Donation (Not Recommended)Donate via our website: https://husaynia.org/donateNote: A Stripe processing fee of 2.2% + $0.30 applies per transaction. \nMAY YOUR SUPPORT BE REWARDED ABUNDANTLY!———‐————————————————- \n“Whoever builds a mosque for the sake of Allah\, Allah will build for him a house in Paradise.”— Prophet Hazrat Muhammad (ﷺ) \nYour generosity is a form of Sadaqa-e-Jariya — a continuous charity that will bless you and future generations\, InshaAllah. \nJazakum Allah Kheir\,Husaynia Islamic Society of Seattle WA USA.https://www.husaynia.org \nhttps://www.facebook.com/events/4022649548064147/?event_time_id=4022698584725910
URL:https://www.husaynia.org/event/global-donation-drive-help-build-mosque-%f0%9f%95%8c-16/
CATEGORIES:Husaynia Event
ORGANIZER;CN="Husaynia%20Islamic%20Society%20of%20Seattle":MAILTO:noreply@facebookmail.com
END:VEVENT
BEGIN:VEVENT
DTSTART;TZID=America/Los_Angeles:20251106T110000
DTEND;TZID=America/Los_Angeles:20251106T233000
DTSTAMP:20260424T083605
CREATED:20250731T191912Z
LAST-MODIFIED:20251001T092207Z
UID:47317-1762426800-1762471800@www.husaynia.org
SUMMARY:Global Donation Drive - Help Build Mosque 🕌
DESCRIPTION:Help Build a Mosque in Seattle WA USA.‐—————————————————————- \nJoin hands in building  a house of worship in Seattle WA USA. \nWe are launching a global fundraising campaign to build a mosque 🕌 that will serve the growing Muslim community in Seattle WA USA.  \nThis Mosque 🕌 will be more than a prayer space – it will be a center for community\, education and peace.  \n🙏 your contribution\, no matter how small\, can make a big value for Husaynia Islamic Society of Seattle Mosques! \n🏳 Donation are welcome from all around the world 🌎. \nDonate Securely via following details  \nWays to Donate to Husaynia Islamic Society of Seattle: \n1) Cheque or Cashier’s Check (Recommended)Payable to: Husaynia Islamic Society of Seattle  \n2) Direct Bank Transfer / Electronic Fund TransferTransfer to: Husaynia Account https://bit.ly/453UKDv \n3) Stock Donation via a Broker Account (No Fee)Donate appreciated stocks and potentially enjoy tax benefits.Contact us for broker details and assistance. \n4) Online Donation (Not Recommended)Donate via our website: https://husaynia.org/donateNote: A Stripe processing fee of 2.2% + $0.30 applies per transaction. \nMAY YOUR SUPPORT BE REWARDED ABUNDANTLY!———‐————————————————- \n“Whoever builds a mosque for the sake of Allah\, Allah will build for him a house in Paradise.”— Prophet Hazrat Muhammad (ﷺ) \nYour generosity is a form of Sadaqa-e-Jariya — a continuous charity that will bless you and future generations\, InshaAllah. \nJazakum Allah Kheir\,Husaynia Islamic Society of Seattle WA USA.https://www.husaynia.org \nhttps://www.facebook.com/events/4022649548064147/?event_time_id=4022698571392578
URL:https://www.husaynia.org/event/global-donation-drive-help-build-mosque-%f0%9f%95%8c-15/
CATEGORIES:Husaynia Event
ORGANIZER;CN="Husaynia%20Islamic%20Society%20of%20Seattle":MAILTO:noreply@facebookmail.com
END:VEVENT
BEGIN:VEVENT
DTSTART;TZID=America/Los_Angeles:20251030T110000
DTEND;TZID=America/Los_Angeles:20251030T233000
DTSTAMP:20260424T083605
CREATED:20250731T191912Z
LAST-MODIFIED:20251001T092200Z
UID:47316-1761822000-1761867000@www.husaynia.org
SUMMARY:Global Donation Drive - Help Build Mosque 🕌
DESCRIPTION:Help Build a Mosque in Seattle WA USA.‐—————————————————————- \nJoin hands in building  a house of worship in Seattle WA USA. \nWe are launching a global fundraising campaign to build a mosque 🕌 that will serve the growing Muslim community in Seattle WA USA.  \nThis Mosque 🕌 will be more than a prayer space – it will be a center for community\, education and peace.  \n🙏 your contribution\, no matter how small\, can make a big value for Husaynia Islamic Society of Seattle Mosques! \n🏳 Donation are welcome from all around the world 🌎. \nDonate Securely via following details  \nWays to Donate to Husaynia Islamic Society of Seattle: \n1) Cheque or Cashier’s Check (Recommended)Payable to: Husaynia Islamic Society of Seattle  \n2) Direct Bank Transfer / Electronic Fund TransferTransfer to: Husaynia Account https://bit.ly/453UKDv \n3) Stock Donation via a Broker Account (No Fee)Donate appreciated stocks and potentially enjoy tax benefits.Contact us for broker details and assistance. \n4) Online Donation (Not Recommended)Donate via our website: https://husaynia.org/donateNote: A Stripe processing fee of 2.2% + $0.30 applies per transaction. \nMAY YOUR SUPPORT BE REWARDED ABUNDANTLY!———‐————————————————- \n“Whoever builds a mosque for the sake of Allah\, Allah will build for him a house in Paradise.”— Prophet Hazrat Muhammad (ﷺ) \nYour generosity is a form of Sadaqa-e-Jariya — a continuous charity that will bless you and future generations\, InshaAllah. \nJazakum Allah Kheir\,Husaynia Islamic Society of Seattle WA USA.https://www.husaynia.org \nhttps://www.facebook.com/events/4022649548064147/?event_time_id=4022698568059245
URL:https://www.husaynia.org/event/global-donation-drive-help-build-mosque-%f0%9f%95%8c-14/
CATEGORIES:Husaynia Event
ORGANIZER;CN="Husaynia%20Islamic%20Society%20of%20Seattle":MAILTO:noreply@facebookmail.com
END:VEVENT
BEGIN:VEVENT
DTSTART;TZID=America/Los_Angeles:20251023T110000
DTEND;TZID=America/Los_Angeles:20251023T233000
DTSTAMP:20260424T083605
CREATED:20250731T191912Z
LAST-MODIFIED:20251001T092158Z
UID:47315-1761217200-1761262200@www.husaynia.org
SUMMARY:Global Donation Drive - Help Build Mosque 🕌
DESCRIPTION:Help Build a Mosque in Seattle WA USA.‐—————————————————————- \nJoin hands in building  a house of worship in Seattle WA USA. \nWe are launching a global fundraising campaign to build a mosque 🕌 that will serve the growing Muslim community in Seattle WA USA.  \nThis Mosque 🕌 will be more than a prayer space – it will be a center for community\, education and peace.  \n🙏 your contribution\, no matter how small\, can make a big value for Husaynia Islamic Society of Seattle Mosques! \n🏳 Donation are welcome from all around the world 🌎. \nDonate Securely via following details  \nWays to Donate to Husaynia Islamic Society of Seattle: \n1) Cheque or Cashier’s Check (Recommended)Payable to: Husaynia Islamic Society of Seattle  \n2) Direct Bank Transfer / Electronic Fund TransferTransfer to: Husaynia Account https://bit.ly/453UKDv \n3) Stock Donation via a Broker Account (No Fee)Donate appreciated stocks and potentially enjoy tax benefits.Contact us for broker details and assistance. \n4) Online Donation (Not Recommended)Donate via our website: https://husaynia.org/donateNote: A Stripe processing fee of 2.2% + $0.30 applies per transaction. \nMAY YOUR SUPPORT BE REWARDED ABUNDANTLY!———‐————————————————- \n“Whoever builds a mosque for the sake of Allah\, Allah will build for him a house in Paradise.”— Prophet Hazrat Muhammad (ﷺ) \nYour generosity is a form of Sadaqa-e-Jariya — a continuous charity that will bless you and future generations\, InshaAllah. \nJazakum Allah Kheir\,Husaynia Islamic Society of Seattle WA USA.https://www.husaynia.org \nhttps://www.facebook.com/events/4022649548064147/?event_time_id=4022698564725912
URL:https://www.husaynia.org/event/global-donation-drive-help-build-mosque-%f0%9f%95%8c-13/
CATEGORIES:Husaynia Event
ORGANIZER;CN="Husaynia%20Islamic%20Society%20of%20Seattle":MAILTO:noreply@facebookmail.com
END:VEVENT
BEGIN:VEVENT
DTSTART;TZID=America/Los_Angeles:20251016T110000
DTEND;TZID=America/Los_Angeles:20251016T233000
DTSTAMP:20260424T083605
CREATED:20250731T191912Z
LAST-MODIFIED:20251001T092155Z
UID:47314-1760612400-1760657400@www.husaynia.org
SUMMARY:Global Donation Drive - Help Build Mosque 🕌
DESCRIPTION:Help Build a Mosque in Seattle WA USA.‐—————————————————————- \nJoin hands in building  a house of worship in Seattle WA USA. \nWe are launching a global fundraising campaign to build a mosque 🕌 that will serve the growing Muslim community in Seattle WA USA.  \nThis Mosque 🕌 will be more than a prayer space – it will be a center for community\, education and peace.  \n🙏 your contribution\, no matter how small\, can make a big value for Husaynia Islamic Society of Seattle Mosques! \n🏳 Donation are welcome from all around the world 🌎. \nDonate Securely via following details  \nWays to Donate to Husaynia Islamic Society of Seattle: \n1) Cheque or Cashier’s Check (Recommended)Payable to: Husaynia Islamic Society of Seattle  \n2) Direct Bank Transfer / Electronic Fund TransferTransfer to: Husaynia Account https://bit.ly/453UKDv \n3) Stock Donation via a Broker Account (No Fee)Donate appreciated stocks and potentially enjoy tax benefits.Contact us for broker details and assistance. \n4) Online Donation (Not Recommended)Donate via our website: https://husaynia.org/donateNote: A Stripe processing fee of 2.2% + $0.30 applies per transaction. \nMAY YOUR SUPPORT BE REWARDED ABUNDANTLY!———‐————————————————- \n“Whoever builds a mosque for the sake of Allah\, Allah will build for him a house in Paradise.”— Prophet Hazrat Muhammad (ﷺ) \nYour generosity is a form of Sadaqa-e-Jariya — a continuous charity that will bless you and future generations\, InshaAllah. \nJazakum Allah Kheir\,Husaynia Islamic Society of Seattle WA USA.https://www.husaynia.org \nhttps://www.facebook.com/events/4022649548064147/?event_time_id=4022698574725911
URL:https://www.husaynia.org/event/global-donation-drive-help-build-mosque-%f0%9f%95%8c-12/
CATEGORIES:Husaynia Event
ORGANIZER;CN="Husaynia%20Islamic%20Society%20of%20Seattle":MAILTO:noreply@facebookmail.com
END:VEVENT
BEGIN:VEVENT
DTSTART;TZID=America/Los_Angeles:20251009T110000
DTEND;TZID=America/Los_Angeles:20251009T233000
DTSTAMP:20260424T083605
CREATED:20250731T191912Z
LAST-MODIFIED:20251001T092149Z
UID:47313-1760007600-1760052600@www.husaynia.org
SUMMARY:Global Donation Drive - Help Build Mosque 🕌
DESCRIPTION:Help Build a Mosque in Seattle WA USA.‐—————————————————————- \nJoin hands in building  a house of worship in Seattle WA USA. \nWe are launching a global fundraising campaign to build a mosque 🕌 that will serve the growing Muslim community in Seattle WA USA.  \nThis Mosque 🕌 will be more than a prayer space – it will be a center for community\, education and peace.  \n🙏 your contribution\, no matter how small\, can make a big value for Husaynia Islamic Society of Seattle Mosques! \n🏳 Donation are welcome from all around the world 🌎. \nDonate Securely via following details  \nWays to Donate to Husaynia Islamic Society of Seattle: \n1) Cheque or Cashier’s Check (Recommended)Payable to: Husaynia Islamic Society of Seattle  \n2) Direct Bank Transfer / Electronic Fund TransferTransfer to: Husaynia Account https://bit.ly/453UKDv \n3) Stock Donation via a Broker Account (No Fee)Donate appreciated stocks and potentially enjoy tax benefits.Contact us for broker details and assistance. \n4) Online Donation (Not Recommended)Donate via our website: https://husaynia.org/donateNote: A Stripe processing fee of 2.2% + $0.30 applies per transaction. \nMAY YOUR SUPPORT BE REWARDED ABUNDANTLY!———‐————————————————- \n“Whoever builds a mosque for the sake of Allah\, Allah will build for him a house in Paradise.”— Prophet Hazrat Muhammad (ﷺ) \nYour generosity is a form of Sadaqa-e-Jariya — a continuous charity that will bless you and future generations\, InshaAllah. \nJazakum Allah Kheir\,Husaynia Islamic Society of Seattle WA USA.https://www.husaynia.org \nhttps://www.facebook.com/events/4022649548064147/?event_time_id=4022698558059246
URL:https://www.husaynia.org/event/global-donation-drive-help-build-mosque-%f0%9f%95%8c-11/
CATEGORIES:Husaynia Event
ORGANIZER;CN="Husaynia%20Islamic%20Society%20of%20Seattle":MAILTO:noreply@facebookmail.com
END:VEVENT
BEGIN:VEVENT
DTSTART;TZID=America/Los_Angeles:20251002T110000
DTEND;TZID=America/Los_Angeles:20251002T233000
DTSTAMP:20260424T083605
CREATED:20250731T191912Z
LAST-MODIFIED:20251001T092142Z
UID:47312-1759402800-1759447800@www.husaynia.org
SUMMARY:Global Donation Drive - Help Build Mosque 🕌
DESCRIPTION:Help Build a Mosque in Seattle WA USA.‐—————————————————————- \nJoin hands in building  a house of worship in Seattle WA USA. \nWe are launching a global fundraising campaign to build a mosque 🕌 that will serve the growing Muslim community in Seattle WA USA.  \nThis Mosque 🕌 will be more than a prayer space – it will be a center for community\, education and peace.  \n🙏 your contribution\, no matter how small\, can make a big value for Husaynia Islamic Society of Seattle Mosques! \n🏳 Donation are welcome from all around the world 🌎. \nDonate Securely via following details  \nWays to Donate to Husaynia Islamic Society of Seattle: \n1) Cheque or Cashier’s Check (Recommended)Payable to: Husaynia Islamic Society of Seattle  \n2) Direct Bank Transfer / Electronic Fund TransferTransfer to: Husaynia Account https://bit.ly/453UKDv \n3) Stock Donation via a Broker Account (No Fee)Donate appreciated stocks and potentially enjoy tax benefits.Contact us for broker details and assistance. \n4) Online Donation (Not Recommended)Donate via our website: https://husaynia.org/donateNote: A Stripe processing fee of 2.2% + $0.30 applies per transaction. \nMAY YOUR SUPPORT BE REWARDED ABUNDANTLY!———‐————————————————- \n“Whoever builds a mosque for the sake of Allah\, Allah will build for him a house in Paradise.”— Prophet Hazrat Muhammad (ﷺ) \nYour generosity is a form of Sadaqa-e-Jariya — a continuous charity that will bless you and future generations\, InshaAllah. \nJazakum Allah Kheir\,Husaynia Islamic Society of Seattle WA USA.https://www.husaynia.org \nhttps://www.facebook.com/events/4022649548064147/?event_time_id=4022698561392579
URL:https://www.husaynia.org/event/global-donation-drive-help-build-mosque-%f0%9f%95%8c-10/
CATEGORIES:Husaynia Event
ORGANIZER;CN="Husaynia%20Islamic%20Society%20of%20Seattle":MAILTO:noreply@facebookmail.com
END:VEVENT
END:VCALENDAR