BEGIN:VCALENDAR
VERSION:2.0
PRODID:-//Husaynia Islamic Society of Seattle - ECPv5.16.4//NONSGML v1.0//EN
CALSCALE:GREGORIAN
METHOD:PUBLISH
X-WR-CALNAME:Husaynia Islamic Society of Seattle
X-ORIGINAL-URL:https://www.husaynia.org
X-WR-CALDESC:Events for Husaynia Islamic Society of Seattle
REFRESH-INTERVAL;VALUE=DURATION:PT1H
X-Robots-Tag:noindex
X-PUBLISHED-TTL:PT1H
BEGIN:VTIMEZONE
TZID:UTC
BEGIN:STANDARD
TZOFFSETFROM:+0000
TZOFFSETTO:+0000
TZNAME:UTC
DTSTART:20260101T000000
END:STANDARD
END:VTIMEZONE
BEGIN:VEVENT
DTSTART;VALUE=DATE:20260423
DTEND;VALUE=DATE:20260424
DTSTAMP:20260422T012812
CREATED:20251212T053806Z
LAST-MODIFIED:20260422T053808Z
UID:53064-1776902400-1776988799@www.husaynia.org
SUMMARY:Treaty of Hudaybiyyah was executed\, 6 AH
DESCRIPTION:The Treaty of Hudaybiyyah was an event that took place during the time of the Islamic prophet Muhammad. It was a pivotal treaty between Muhammad\, representing the state of Medina\, and the Qurayshi tribe of Mecca in January 628. It helped to decrease tension between the two cities\, affirmed peace for a period of 10 years\, and authorised Muhammad’s followers to return the following year in a peaceful pilgrimage\, later known as The First Pilgrimage. \nAdditional informationhttps://en.wikipedia.org/wiki/Treaty_of_Hudaybiyyah \nWikipedia content re-released under CC-BY-SA.https://creativecommons.org/licenses/by-sa/3.0/ \nThis calendar is provided by WebCal.Guru https://www.webcal.guru/. \nContent createdWed\, 15 Apr 2026 16:33:51 +0000 \nSubscription ID–
URL:https://www.husaynia.org/event/treaty-of-hudaybiyyah-was-executed-6-ah/
CATEGORIES:Islamic Important Date
ORGANIZER;CN="Husaynia%20Islamic%20Society%20of%20Seattle":MAILTO:noreply@facebookmail.com
END:VEVENT
BEGIN:VEVENT
DTSTART;VALUE=DATE:20260428
DTEND;VALUE=DATE:20260429
DTSTAMP:20260422T012812
CREATED:20250504T173814Z
LAST-MODIFIED:20260422T053809Z
UID:43031-1777334400-1777420799@www.husaynia.org
SUMMARY:Birth of Ali ar-Ridha\, 148 AH
DESCRIPTION:Ali ibn Musa al-Ridha\, also spelled Rida or Reza in Persian\, also known as Abu al-Hasan\, was a descendant of the Islamic prophet Muhammad\, and the eighth Imam in Twelver Shia Islam\, after his father Musa al-Kadhim\, and before his son Muhammad al-Jawad. He was an Imam of knowledge according to the Zaydi (Fiver) Shia school. He is also seen as a major religious figure for many Sunnis\, particularly Sufis. He lived in a period when Abbasid caliphs were facing numerous difficulties\, the most important of which was Shia revolts. The Caliph Al-Ma’mun sought out a remedy for this problem by appointing Al-Ridha as his successor\, through whom he could be involved in worldly affairs. However\, according to the Shia view\, when Al-Ma’mun saw that the Imam gained even more popularity\, he decided to correct his mistake by poisoning him. The Imam was buried at the Imam Reza shrine in a city in Khorasan\, which afterwards gained the name Mashhad\, meaning “the place of martyrdom”. \nAdditional informationhttps://en.wikipedia.org/wiki/Ali_ar-Ridha \nWikipedia content re-released under CC-BY-SA.https://creativecommons.org/licenses/by-sa/3.0/ \nThis calendar is provided by WebCal.Guru https://www.webcal.guru/. \nContent createdWed\, 15 Apr 2026 16:33:51 +0000 \nSubscription ID–
URL:https://www.husaynia.org/event/birth-of-ali-ar-ridha-148-ah-2/
CATEGORIES:Islamic Important Date
ORGANIZER;CN="Husaynia%20Islamic%20Society%20of%20Seattle":MAILTO:noreply@facebookmail.com
END:VEVENT
END:VCALENDAR