BEGIN:VCALENDAR
VERSION:2.0
PRODID:-//Husaynia Islamic Society of Seattle - ECPv5.16.4//NONSGML v1.0//EN
CALSCALE:GREGORIAN
METHOD:PUBLISH
X-WR-CALNAME:Husaynia Islamic Society of Seattle
X-ORIGINAL-URL:https://www.husaynia.org
X-WR-CALDESC:Events for Husaynia Islamic Society of Seattle
REFRESH-INTERVAL;VALUE=DURATION:PT1H
X-Robots-Tag:noindex
X-PUBLISHED-TTL:PT1H
BEGIN:VTIMEZONE
TZID:UTC
BEGIN:STANDARD
TZOFFSETFROM:+0000
TZOFFSETTO:+0000
TZNAME:UTC
DTSTART:20260101T000000
END:STANDARD
END:VTIMEZONE
BEGIN:VEVENT
DTSTART;VALUE=DATE:20260512
DTEND;VALUE=DATE:20260513
DTSTAMP:20260422T024619
CREATED:20251212T053807Z
LAST-MODIFIED:20260422T053810Z
UID:53066-1778544000-1778630399@www.husaynia.org
SUMMARY:Dahwul Ardh
DESCRIPTION:Additional informationhttps://en.wikishia.net/view/Dahw_al-Ard \nThis calendar is provided by WebCal.Guru https://www.webcal.guru/. \nContent createdWed\, 15 Apr 2026 16:33:51 +0000 \nSubscription ID–
URL:https://www.husaynia.org/event/dahwul-ardh/
CATEGORIES:Islamic Important Date
ORGANIZER;CN="Husaynia%20Islamic%20Society%20of%20Seattle":MAILTO:noreply@facebookmail.com
END:VEVENT
BEGIN:VEVENT
DTSTART;VALUE=DATE:20260516
DTEND;VALUE=DATE:20260517
DTSTAMP:20260422T024619
CREATED:20251212T053807Z
LAST-MODIFIED:20260422T053810Z
UID:53067-1778889600-1778975999@www.husaynia.org
SUMMARY:Martyrdom of Muhammad al-Taqī\, 220 AH
DESCRIPTION:Muhammad ibn Ali al-Jawad was the ninth of the Twelve Imams after his father Ali al-Ridha and before his son Ali al-Hadi. He was known as al-Jawād and al-Taqī\, but also called Abu Jaʿfar al-Ṯāni\, and Ibn al-Ridha. His mother\, Sabika\, was a slave girl from Nubia from the family of Maria al-Qibtiyya\, who was the slave mother of Muhammad’s young son Ibrahim. \nAdditional informationhttps://en.wikipedia.org/wiki/Muhammad_al-Taq%C4%AB \nWikipedia content re-released under CC-BY-SA.https://creativecommons.org/licenses/by-sa/3.0/ \nThis calendar is provided by WebCal.Guru https://www.webcal.guru/. \nContent createdWed\, 15 Apr 2026 16:33:51 +0000 \nSubscription ID–
URL:https://www.husaynia.org/event/martyrdom-of-muhammad-al-taqi-220-ah/
CATEGORIES:Islamic Important Date
ORGANIZER;CN="Husaynia%20Islamic%20Society%20of%20Seattle":MAILTO:noreply@facebookmail.com
END:VEVENT
BEGIN:VEVENT
DTSTART;VALUE=DATE:20260518
DTEND;VALUE=DATE:20260519
DTSTAMP:20260422T024619
CREATED:20251212T053807Z
LAST-MODIFIED:20260422T053810Z
UID:53068-1779062400-1779148799@www.husaynia.org
SUMMARY:Marriage of Fatimah bint Muhammad to Ali\, 2 BH
DESCRIPTION:Fatimah bint Muhammad\, commonly known as Fatimah al-Zahra\, was born to the Islamic prophet Muhammad and Khadijah. Sunni Muslims hold that Fatimah was the youngest of their daughters\, whereas Shia Muslims maintain that Fatimah was the only daughter of the couple. Fatimah’s husband was Ali\, the fourth of the Rashidun Caliphs and the first Shia Imam. Fatimah’s children include Hasan and Husayn\, the second and third Shia Imams\, respectively. \nAdditional informationhttps://en.wikipedia.org/wiki/Fatimah_bint_Muhammad \nWikipedia content re-released under CC-BY-SA.https://creativecommons.org/licenses/by-sa/3.0/ \nThis calendar is provided by WebCal.Guru https://www.webcal.guru/. \nContent createdWed\, 15 Apr 2026 16:33:51 +0000 \nSubscription ID–
URL:https://www.husaynia.org/event/marriage-of-fatimah-bint-muhammad-to-ali-2-bh/
CATEGORIES:Islamic Important Date
ORGANIZER;CN="Husaynia%20Islamic%20Society%20of%20Seattle":MAILTO:noreply@facebookmail.com
END:VEVENT
BEGIN:VEVENT
DTSTART;VALUE=DATE:20260520
DTEND;VALUE=DATE:20260521
DTSTAMP:20260422T024619
CREATED:20251212T053807Z
LAST-MODIFIED:20260422T053811Z
UID:53069-1779235200-1779321599@www.husaynia.org
SUMMARY:Renunciation of Adam accepted
DESCRIPTION:Adam is believed to have been the first human being on Earth and the first prophet of Islam. Adam’s role as the father of the human race is looked upon by Muslims with reverence. Muslims also refer to his wife\, Hawa\, as the “mother of mankind”. Muslims see Adam as the first Muslim\, as the Quran states that all the Prophets preached the same faith of Islam. \nAdditional informationhttps://en.wikipedia.org/wiki/Adam_in_Islam \nWikipedia content re-released under CC-BY-SA.https://creativecommons.org/licenses/by-sa/3.0/ \nThis calendar is provided by WebCal.Guru https://www.webcal.guru/. \nContent createdWed\, 15 Apr 2026 16:33:51 +0000 \nSubscription ID–
URL:https://www.husaynia.org/event/renunciation-of-adam-accepted/
CATEGORIES:Islamic Important Date
ORGANIZER;CN="Husaynia%20Islamic%20Society%20of%20Seattle":MAILTO:noreply@facebookmail.com
END:VEVENT
BEGIN:VEVENT
DTSTART;VALUE=DATE:20260524
DTEND;VALUE=DATE:20260525
DTSTAMP:20260422T024619
CREATED:20251212T053807Z
LAST-MODIFIED:20260422T053811Z
UID:53070-1779580800-1779667199@www.husaynia.org
SUMMARY:Martyrdom of Muhammad al-Baqir\, 114 AH
DESCRIPTION:Muhammad al-Baqir full name Muhammad bin ‘Ali bin al-Husayn bin Ali bin Abi Talib\, also known as Abu Ja’far or simply al-Baqir (677-733) was the fifth Imam in Shia Islam\, succeeding his father Zayn al-Abidin and succeeded by his son Ja’far al-Sadiq. His mother\, Fatima Umm Abdallah\, was the daughter of Hasan ibn Ali\, making him the first Imam descended from both grandsons of Muhammad: Hasan ibn Ali and Husayn ibn Ali. in Naqshbandi order\, he is revered as the father of Ja’far al-Sadiq\, the sheikh of the Golden Chain. \nAdditional informationhttps://en.wikipedia.org/wiki/Muhammad_al-Baqir \nWikipedia content re-released under CC-BY-SA.https://creativecommons.org/licenses/by-sa/3.0/ \nThis calendar is provided by WebCal.Guru https://www.webcal.guru/. \nContent createdWed\, 15 Apr 2026 16:33:51 +0000 \nSubscription ID–
URL:https://www.husaynia.org/event/martyrdom-of-muhammad-al-baqir-114-ah/
CATEGORIES:Islamic Important Date
ORGANIZER;CN="Husaynia%20Islamic%20Society%20of%20Seattle":MAILTO:noreply@facebookmail.com
END:VEVENT
BEGIN:VEVENT
DTSTART;VALUE=DATE:20260525
DTEND;VALUE=DATE:20260526
DTSTAMP:20260422T024619
CREATED:20251212T053807Z
LAST-MODIFIED:20260422T053811Z
UID:53071-1779667200-1779753599@www.husaynia.org
SUMMARY:Husayn ibn Ali leaves Makkah for Karbala\, 60 AH
DESCRIPTION:Al-Ḥusayn ibn ʿAlī ibn Abī Ṭālib\, also known as Abu Abd Allah or Imam Husayn\, was a grandson of the Islamic prophet Muhammad and a son of Ali ibn Abi Talib and Muhammad’s daughter Fatimah\, and a younger brother of Hasan ibn Ali. He is the third Shia Imam after his brother\, Hasan\, and before his son\, Zayn al-Abidin. He is considered a member of the Ahl al-Bayt as well as the Ahl al-Kisa\, and he was a participant in the event of Mubahala. Muhammad described Husayn and his brother\, Hasan\, as “the masters of the youth of Paradise.” \nAdditional informationhttps://en.wikipedia.org/wiki/Husayn_ibn_Ali \nWikipedia content re-released under CC-BY-SA.https://creativecommons.org/licenses/by-sa/3.0/ \nThis calendar is provided by WebCal.Guru https://www.webcal.guru/. \nContent createdWed\, 15 Apr 2026 16:33:51 +0000 \nSubscription ID–
URL:https://www.husaynia.org/event/husayn-ibn-ali-leaves-makkah-for-karbala-60-ah/
CATEGORIES:Islamic Important Date
ORGANIZER;CN="Husaynia%20Islamic%20Society%20of%20Seattle":MAILTO:noreply@facebookmail.com
END:VEVENT
BEGIN:VEVENT
DTSTART;VALUE=DATE:20260526
DTEND;VALUE=DATE:20260527
DTSTAMP:20260422T024619
CREATED:20250528T053810Z
LAST-MODIFIED:20260422T053811Z
UID:43664-1779753600-1779839999@www.husaynia.org
SUMMARY:Day of Arafah
DESCRIPTION:The Day of Arafah is an Islamic holiday that falls on the 9th day of Dhu al-Hijjah of the lunar Islamic Calendar. It is the holiest day in the Islamic calendar\, the second day of the Hajj pilgrimage\, and the day after is the first day of the major Islamic holiday of Eid al-Adha. At dawn of this day\, Muslim pilgrims will make their way from Mina to a nearby hillside and plain called Mount Arafat and the Plain of Arafat. It was from this site that the prophet Muhammad gave one of his last sermons in the final year of his life. Some Muslims hold that part of the Quranic verse announcing that the religion of Islam had been perfected was revealed on this day. \nAdditional informationhttps://en.wikipedia.org/wiki/Day_of_Arafat \nWikipedia content re-released under CC-BY-SA.https://creativecommons.org/licenses/by-sa/3.0/ \nThis calendar is provided by WebCal.Guru https://www.webcal.guru/. \nContent createdWed\, 15 Apr 2026 16:33:51 +0000 \nSubscription ID–
URL:https://www.husaynia.org/event/day-of-arafah-2/
CATEGORIES:Islamic Important Date
ORGANIZER;CN="Husaynia%20Islamic%20Society%20of%20Seattle":MAILTO:noreply@facebookmail.com
END:VEVENT
BEGIN:VEVENT
DTSTART;VALUE=DATE:20260526
DTEND;VALUE=DATE:20260527
DTSTAMP:20260422T024619
CREATED:20251114T173815Z
LAST-MODIFIED:20260422T053812Z
UID:52563-1779753600-1779839999@www.husaynia.org
SUMMARY:Martyrdom of Muslim ibn Aqeel & Hani ibn Urwa in Kufa\, 60 AH
DESCRIPTION:Muslim ibn Aqil al-Hashimi was the son of Aqil ibn Abi Talib and a member of the clan of Bani Hashim\, thus\, he is a cousin of Hussain ibn Ali. The people of Kufa called upon Husayn to overthrow the Umayyad dynasty who was on his way to Mecca for the Hajj pilgrimage. He wanted to confirm the loyalty of the people of Kufa\, so he sent his cousin and his ambassador\, Muslim ibn Aqeel\, a famous warrior\, to Kufa to observe the situation. He sent a letter to Hussain confirming their loyalty\, before knowing that the 30\,000 followers that he gained would all betray him for their lives. He was executed by the newly installed governor\, Ubayd Allah ibn Ziyad\, on the 9th of Zilhaj\, 60 AH\, and is buried at the back of Great Mosque of Kufa. \nAdditional informationhttps://en.wikipedia.org/wiki/Muslim_ibn_Aqeel \nWikipedia content re-released under CC-BY-SA.https://creativecommons.org/licenses/by-sa/3.0/ \nThis calendar is provided by WebCal.Guru https://www.webcal.guru/. \nContent createdWed\, 15 Apr 2026 16:33:51 +0000 \nSubscription ID–
URL:https://www.husaynia.org/event/martyrdom-of-muslim-ibn-aqeel-hani-ibn-urwa-in-kufa-60-ah/
CATEGORIES:Islamic Important Date
ORGANIZER;CN="Husaynia%20Islamic%20Society%20of%20Seattle":MAILTO:noreply@facebookmail.com
END:VEVENT
BEGIN:VEVENT
DTSTART;VALUE=DATE:20260527
DTEND;VALUE=DATE:20260531
DTSTAMP:20260422T024619
CREATED:20250528T053810Z
LAST-MODIFIED:20260422T053812Z
UID:43666-1779840000-1780185599@www.husaynia.org
SUMMARY:Eid al-Adha
DESCRIPTION:– Eid al-Adha– عيد الأضحى‎ \nEid al-Adha is the latter of the two official holidays celebrated within Islam. It honors the willingness of Ibrahim (Abraham) to sacrifice his son Ismael as an act of obedience to God’s command. Before Ibrahim could sacrifice his son\, however\, God provided a ram to sacrifice instead. In commemoration of this intervention\, animals are sacrificed ritually. One third of their meat is consumed by the family offering the sacrifice\, while the rest is distributed to the poor and needy. Sweets and gifts are given\, and extended family are typically visited and welcomed. The day is also sometimes called Big Eid or the Greater Eid. \nAdditional informationhttps://en.wikipedia.org/wiki/Eid_al-Adha \nWikipedia content re-released under CC-BY-SA.https://creativecommons.org/licenses/by-sa/3.0/ \nThis calendar is provided by WebCal.Guru https://www.webcal.guru/. \nContent createdWed\, 15 Apr 2026 16:33:51 +0000 \nSubscription ID–
URL:https://www.husaynia.org/event/eid-al-adha-2/
CATEGORIES:Islamic Important Date
ORGANIZER;CN="Husaynia%20Islamic%20Society%20of%20Seattle":MAILTO:noreply@facebookmail.com
END:VEVENT
END:VCALENDAR