BEGIN:VCALENDAR
VERSION:2.0
PRODID:-//Husaynia Islamic Society of Seattle - ECPv5.16.4//NONSGML v1.0//EN
CALSCALE:GREGORIAN
METHOD:PUBLISH
X-ORIGINAL-URL:https://www.husaynia.org
X-WR-CALDESC:Events for Husaynia Islamic Society of Seattle
REFRESH-INTERVAL;VALUE=DURATION:PT1H
X-Robots-Tag:noindex
X-PUBLISHED-TTL:PT1H
BEGIN:VTIMEZONE
TZID:UTC
BEGIN:STANDARD
TZOFFSETFROM:+0000
TZOFFSETTO:+0000
TZNAME:UTC
DTSTART:20260101T000000
END:STANDARD
END:VTIMEZONE
BEGIN:VEVENT
DTSTART;VALUE=DATE:20260726
DTEND;VALUE=DATE:20260727
DTSTAMP:20260424T154013
CREATED:20251212T053810Z
LAST-MODIFIED:20260424T173806Z
UID:53101-1785024000-1785110399@www.husaynia.org
SUMMARY:Birth of Salman the Persian
DESCRIPTION:Salman the Persian or Salman Al-Farsi\, born Rouzbeh Khoshnudan\, was a companion of the Islamic prophet Muhammad and the first Persian who converted to Islam. During some of his later meetings with the other Sahabah\, he was referred to by the kunya Abu Abdullah. He is credited with the suggestion of digging a trench around Medina\, a Sasanian military technique when it was attacked by Mecca in the Battle of the Trench. He was raised as a Zoroastrian\, then attracted to Christianity\, and then converted to Islam after meeting Muhammad in the city of Yathrib\, which later became Medina. According to some traditions\, he was appointed as the governor of Al-Mada’in in Iraq. According to popular tradition\, Muhammad considered Salman as part of his household. He was a renowned follower of Ali ibn Abi Talib after the death of Muhammad. \nAdditional informationhttps://en.wikipedia.org/wiki/Salman_the_Persian \nWikipedia content re-released under CC-BY-SA.https://creativecommons.org/licenses/by-sa/3.0/ \nThis calendar is provided by WebCal.Guru https://www.webcal.guru/. \nContent createdWed\, 22 Apr 2026 16:35:04 +0000 \nSubscription ID–
URL:https://www.husaynia.org/event/birth-of-salman-the-persian/
CATEGORIES:Islamic Important Date
ORGANIZER;CN="Husaynia%20Islamic%20Society%20of%20Seattle":MAILTO:noreply@facebookmail.com
END:VEVENT
END:VCALENDAR