BEGIN:VCALENDAR
VERSION:2.0
PRODID:-//Husaynia Islamic Society of Seattle - ECPv5.16.4//NONSGML v1.0//EN
CALSCALE:GREGORIAN
METHOD:PUBLISH
X-ORIGINAL-URL:https://www.husaynia.org
X-WR-CALDESC:Events for Husaynia Islamic Society of Seattle
REFRESH-INTERVAL;VALUE=DURATION:PT1H
X-Robots-Tag:noindex
X-PUBLISHED-TTL:PT1H
BEGIN:VTIMEZONE
TZID:UTC
BEGIN:STANDARD
TZOFFSETFROM:+0000
TZOFFSETTO:+0000
TZNAME:UTC
DTSTART:20260101T000000
END:STANDARD
END:VTIMEZONE
BEGIN:VEVENT
DTSTART;VALUE=DATE:20260724
DTEND;VALUE=DATE:20260725
DTSTAMP:20260424T154015
CREATED:20251024T173903Z
LAST-MODIFIED:20260424T173805Z
UID:52189-1784851200-1784937599@www.husaynia.org
SUMMARY:30th day after ʿĀshūrāʾ
DESCRIPTION:Ashura is an Islamic holiday that occurs on the tenth day of Muharram\, the first month in the Islamic lunar calendar. For Muslims\, Ashura marks the day in which the Islamic prophet Musa was saved by Allah when He parted the Sea while leading the children of Israel to the land of Israel. Furthermore\, for Muslims\, it marks the day on which the Battle of Karbala took place\, resulting in the martyrdom of Husayn ibn Ali\, the grandson of the Islamic prophet Muhammad and a member of the Household of Muhammad. \nAdditional informationhttps://en.wikipedia.org/wiki/Ashura \nWikipedia content re-released under CC-BY-SA.https://creativecommons.org/licenses/by-sa/3.0/ \nThis calendar is provided by WebCal.Guru https://www.webcal.guru/. \nContent createdWed\, 22 Apr 2026 16:35:04 +0000 \nSubscription ID–
URL:https://www.husaynia.org/event/30th-day-after-%ca%bfashura%ca%be-2/
CATEGORIES:Islamic Important Date
ORGANIZER;CN="Husaynia%20Islamic%20Society%20of%20Seattle":MAILTO:noreply@facebookmail.com
END:VEVENT
BEGIN:VEVENT
DTSTART;VALUE=DATE:20260724
DTEND;VALUE=DATE:20260725
DTSTAMP:20260424T154015
CREATED:20251212T053809Z
LAST-MODIFIED:20260424T173805Z
UID:53099-1784851200-1784937599@www.husaynia.org
SUMMARY:⚔️ Victory to Ali in the Battle of Nahrawan
DESCRIPTION:The Battle of Nahrawan was fought between the army of Caliph Ali and the rebel group called Kharijites in July 658 CE. They were a group of pious allies of Ali during the First Muslim Civil War. They separated from him following the Battle of Siffin when Ali agreed to settle the dispute with Mu’awiya\, governor of Syria\, through negotiations\, a move labeled by the group as against the Qur’an. After failed attempts to regain their loyalty and because of their rebellious and murderous activities\, Ali confronted the Kharijites near their headquarters by the Nahrawan Canal\, near modern-day Baghdad. Of the 4\,000 rebels\, some 1\,200 were won over with promise of amnesty while majority of the remaining 2\,800 were killed in the ensuing battle. \nAdditional informationhttps://en.wikipedia.org/wiki/Battle_of_Nahrawan \nWikipedia content re-released under CC-BY-SA.https://creativecommons.org/licenses/by-sa/3.0/ \nThis calendar is provided by WebCal.Guru https://www.webcal.guru/. \nContent createdWed\, 22 Apr 2026 16:35:04 +0000 \nSubscription ID–
URL:https://www.husaynia.org/event/%e2%9a%94%ef%b8%8f-victory-to-ali-in-the-battle-of-nahrawan/
CATEGORIES:Islamic Important Date
ORGANIZER;CN="Husaynia%20Islamic%20Society%20of%20Seattle":MAILTO:noreply@facebookmail.com
END:VEVENT
BEGIN:VEVENT
DTSTART;VALUE=DATE:20260724
DTEND;VALUE=DATE:20260725
DTSTAMP:20260424T154015
CREATED:20251212T053810Z
LAST-MODIFIED:20260424T173806Z
UID:53100-1784851200-1784937599@www.husaynia.org
SUMMARY:Martyrdom of Ruqayyah bint Husayn
DESCRIPTION:Ruqayyah bint Al-Ḥusayn\, was the daughter of Husayn ibn Ali and Rubab bint Imra al-Qais. Her brothers included Ali Zayn al-Abidin\, Ali al-Akbar\, and Ali al-Asghar. Her sisters included Fatimah as-Sughra and Fatimah al-Kubra\, with the latter also being called ‘Sakinah’. \nAdditional informationhttps://en.wikipedia.org/wiki/Ruqayyah_bint_Husayn \nWikipedia content re-released under CC-BY-SA.https://creativecommons.org/licenses/by-sa/3.0/ \nThis calendar is provided by WebCal.Guru https://www.webcal.guru/. \nContent createdWed\, 22 Apr 2026 16:35:04 +0000 \nSubscription ID–
URL:https://www.husaynia.org/event/martyrdom-of-ruqayyah-bint-husayn/
CATEGORIES:Islamic Important Date
ORGANIZER;CN="Husaynia%20Islamic%20Society%20of%20Seattle":MAILTO:noreply@facebookmail.com
END:VEVENT
END:VCALENDAR