BEGIN:VCALENDAR
VERSION:2.0
PRODID:-//Husaynia Islamic Society of Seattle - ECPv5.16.4//NONSGML v1.0//EN
CALSCALE:GREGORIAN
METHOD:PUBLISH
X-WR-CALNAME:Husaynia Islamic Society of Seattle
X-ORIGINAL-URL:https://www.husaynia.org
X-WR-CALDESC:Events for Husaynia Islamic Society of Seattle
REFRESH-INTERVAL;VALUE=DURATION:PT1H
X-Robots-Tag:noindex
X-PUBLISHED-TTL:PT1H
BEGIN:VTIMEZONE
TZID:UTC
BEGIN:STANDARD
TZOFFSETFROM:+0000
TZOFFSETTO:+0000
TZNAME:UTC
DTSTART:20270101T000000
END:STANDARD
END:VTIMEZONE
BEGIN:VEVENT
DTSTART;VALUE=DATE:20270221
DTEND;VALUE=DATE:20270222
DTSTAMP:20260421T040025
CREATED:20260226T173853Z
LAST-MODIFIED:20260421T053838Z
UID:54880-1803168000-1803254399@www.husaynia.org
SUMMARY:Martyrdom of Mukhtar ibn Abi Ubayd Al-Thaqafi
DESCRIPTION:Al-Mukhtar ibn Abi Ubayd al-Thaqafi was a pro-Alid revolutionary based in Kufa\, who led a rebellion against the Umayyad Caliphate in 685 and ruled over most of Iraq for eighteen months during the Second Fitna. \nAdditional informationhttps://en.wikipedia.org/wiki/Mukhtar_al-Thaqafi \nWikipedia content re-released under CC-BY-SA.https://creativecommons.org/licenses/by-sa/3.0/ \nThis calendar is provided by WebCal.Guru https://www.webcal.guru/. \nContent createdWed\, 15 Apr 2026 16:33:51 +0000 \nSubscription ID–
URL:https://www.husaynia.org/event/martyrdom-of-mukhtar-ibn-abi-ubayd-al-thaqafi-2/
CATEGORIES:Islamic Important Date
ORGANIZER;CN="Husaynia%20Islamic%20Society%20of%20Seattle":MAILTO:noreply@facebookmail.com
END:VEVENT
END:VCALENDAR