BEGIN:VCALENDAR
VERSION:2.0
PRODID:-//Husaynia Islamic Society of Seattle - ECPv5.16.4//NONSGML v1.0//EN
CALSCALE:GREGORIAN
METHOD:PUBLISH
X-WR-CALNAME:Husaynia Islamic Society of Seattle
X-ORIGINAL-URL:https://www.husaynia.org
X-WR-CALDESC:Events for Husaynia Islamic Society of Seattle
REFRESH-INTERVAL;VALUE=DURATION:PT1H
X-Robots-Tag:noindex
X-PUBLISHED-TTL:PT1H
BEGIN:VTIMEZONE
TZID:UTC
BEGIN:STANDARD
TZOFFSETFROM:+0000
TZOFFSETTO:+0000
TZNAME:UTC
DTSTART:20270101T000000
END:STANDARD
END:VTIMEZONE
BEGIN:VEVENT
DTSTART;VALUE=DATE:20270211
DTEND;VALUE=DATE:20270212
DTSTAMP:20260421T022231
CREATED:20260217T053809Z
LAST-MODIFIED:20260421T053837Z
UID:54645-1802304000-1802390399@www.husaynia.org
SUMMARY:Descending of the Torah
DESCRIPTION:The Torah includes the first five books of the Hebrew Bible\, named: Genesis\, Exodus\, Leviticus\, Numbers and Deuteronomy. When used in that sense\, Torah means the same as Pentateuch or the Five Books of Moses. It is also known in the Jewish tradition as the Written Torah. If meant for liturgic purposes\, it takes the form of a Torah scroll. \nAdditional informationhttps://en.wikipedia.org/wiki/Torah \nWikipedia content re-released under CC-BY-SA.https://creativecommons.org/licenses/by-sa/3.0/ \nThis calendar is provided by WebCal.Guru https://www.webcal.guru/. \nContent createdWed\, 15 Apr 2026 16:33:51 +0000 \nSubscription ID–
URL:https://www.husaynia.org/event/descending-of-the-torah-2/
CATEGORIES:Islamic Important Date
ORGANIZER;CN="Husaynia%20Islamic%20Society%20of%20Seattle":MAILTO:noreply@facebookmail.com
END:VEVENT
END:VCALENDAR