BEGIN:VCALENDAR
VERSION:2.0
PRODID:-//Husaynia Islamic Society of Seattle - ECPv5.16.4//NONSGML v1.0//EN
CALSCALE:GREGORIAN
METHOD:PUBLISH
X-WR-CALNAME:Husaynia Islamic Society of Seattle
X-ORIGINAL-URL:https://www.husaynia.org
X-WR-CALDESC:Events for Husaynia Islamic Society of Seattle
REFRESH-INTERVAL;VALUE=DURATION:PT1H
X-Robots-Tag:noindex
X-PUBLISHED-TTL:PT1H
BEGIN:VTIMEZONE
TZID:UTC
BEGIN:STANDARD
TZOFFSETFROM:+0000
TZOFFSETTO:+0000
TZNAME:UTC
DTSTART:20270101T000000
END:STANDARD
END:VTIMEZONE
BEGIN:VEVENT
DTSTART;VALUE=DATE:20270225
DTEND;VALUE=DATE:20270226
DTSTAMP:20260421T034048
CREATED:20260226T173854Z
LAST-MODIFIED:20260421T053839Z
UID:54883-1803513600-1803599999@www.husaynia.org
SUMMARY:Descending of the Psalms
DESCRIPTION:The Book of Psalms\, commonly referred to simply as Psalms\, the Psalter or “the Psalms”\, is the first book of the Ketuvim (“Writings”)\, the third section of the Tanakh\, and a book of the Christian Old Testament. The title is derived from the Greek translation\, ψαλμοί\, meaning “instrumental music” and\, by extension\, “the words accompanying the music”. The book is an anthology of individual Hebrew religious hymns\, with 150 in the Jewish and Western Christian tradition and more in the Eastern Christian churches. Many are linked to the name of David\, but modern scholarship rejects his authorship\, instead placing the composition of the psalms to various authors writing between the 9th and 5th centuries BC. \nAdditional informationhttps://en.wikipedia.org/wiki/Psalms \nWikipedia content re-released under CC-BY-SA.https://creativecommons.org/licenses/by-sa/3.0/ \nThis calendar is provided by WebCal.Guru https://www.webcal.guru/. \nContent createdWed\, 15 Apr 2026 16:33:51 +0000 \nSubscription ID–
URL:https://www.husaynia.org/event/descending-of-the-psalms-2/
CATEGORIES:Islamic Important Date
ORGANIZER;CN="Husaynia%20Islamic%20Society%20of%20Seattle":MAILTO:noreply@facebookmail.com
END:VEVENT
END:VCALENDAR