BEGIN:VCALENDAR
VERSION:2.0
PRODID:-//Husaynia Islamic Society of Seattle - ECPv5.16.4//NONSGML v1.0//EN
CALSCALE:GREGORIAN
METHOD:PUBLISH
X-WR-CALNAME:Husaynia Islamic Society of Seattle
X-ORIGINAL-URL:https://www.husaynia.org
X-WR-CALDESC:Events for Husaynia Islamic Society of Seattle
REFRESH-INTERVAL;VALUE=DURATION:PT1H
X-Robots-Tag:noindex
X-PUBLISHED-TTL:PT1H
BEGIN:VTIMEZONE
TZID:UTC
BEGIN:STANDARD
TZOFFSETFROM:+0000
TZOFFSETTO:+0000
TZNAME:UTC
DTSTART:20270101T000000
END:STANDARD
END:VTIMEZONE
BEGIN:VEVENT
DTSTART;VALUE=DATE:20270222
DTEND;VALUE=DATE:20270223
DTSTAMP:20260421T040027
CREATED:20260226T173853Z
LAST-MODIFIED:20260421T053838Z
UID:54881-1803254400-1803340799@www.husaynia.org
SUMMARY:Birth of Hasan ibn Ali
DESCRIPTION:Al-Ḥasan ibn ʿAlī ibn Abī Ṭālib\, also called Imam Hasan al-Mujtaba by Shia Muslims\, was the older son of Ali and Fatimah\, and a grandson of the Islamic prophet Muhammad. He is the second Shi’i Imam after his father\, Ali. He is considered part of the Ahl al-Bayt as well as the Ahl al-Kisa\, and he was a participant in the event of Mubahala. Muhammad described Hasan and his brother\, Husayn\, as “the masters of the youth of Paradise.” During the caliphate of Ali\, Hasan accompanied him in wars. After the assassination of Ali\, he was acknowledged caliph. \nAdditional informationhttps://en.wikipedia.org/wiki/Hasan_ibn_Ali \nWikipedia content re-released under CC-BY-SA.https://creativecommons.org/licenses/by-sa/3.0/ \nThis calendar is provided by WebCal.Guru https://www.webcal.guru/. \nContent createdWed\, 15 Apr 2026 16:33:51 +0000 \nSubscription ID–
URL:https://www.husaynia.org/event/birth-of-hasan-ibn-ali/
CATEGORIES:Islamic Important Date
ORGANIZER;CN="Husaynia%20Islamic%20Society%20of%20Seattle":MAILTO:noreply@facebookmail.com
END:VEVENT
END:VCALENDAR