BEGIN:VCALENDAR
VERSION:2.0
PRODID:-//Husaynia Islamic Society of Seattle - ECPv5.16.4//NONSGML v1.0//EN
CALSCALE:GREGORIAN
METHOD:PUBLISH
X-WR-CALNAME:Husaynia Islamic Society of Seattle
X-ORIGINAL-URL:https://www.husaynia.org
X-WR-CALDESC:Events for Husaynia Islamic Society of Seattle
REFRESH-INTERVAL;VALUE=DURATION:PT1H
X-Robots-Tag:noindex
X-PUBLISHED-TTL:PT1H
BEGIN:VTIMEZONE
TZID:UTC
BEGIN:STANDARD
TZOFFSETFROM:+0000
TZOFFSETTO:+0000
TZNAME:UTC
DTSTART:20270101T000000
END:STANDARD
END:VTIMEZONE
BEGIN:VEVENT
DTSTART;VALUE=DATE:20270226
DTEND;VALUE=DATE:20270227
DTSTAMP:20260421T040027
CREATED:20260226T173854Z
LAST-MODIFIED:20260421T053839Z
UID:54884-1803600000-1803686399@www.husaynia.org
SUMMARY:1st night of Laylat al-Qadr
DESCRIPTION:Laylat al-Qadr\, variously rendered in English as the Night of Decree\, Night of Power\, Night of Value\, Night of Destiny\, or Night of Measures\, is\, in Islamic belief\, the night when the Quran was first sent down from Heaven to the world and also the night when the first verses of the Quran were revealed to the prophet Muhammad. According to many Muslim sources\, its exact date is uncertain but it was one of the odd-numbered nights of the last ten days of Ramadan\, the ninth month of the Islamic calendar. Since that time\, Muslims have regarded the last ten nights of Ramadan as being especially blessed. Muslims believe that the Night of Qadr comes with blessings and mercy of God in abundance\, sins are forgiven\, supplications are accepted\, and that the annual decree is revealed to the angels who carry it out according to Allah’s Grace \nAdditional informationhttps://en.wikipedia.org/wiki/Qadr_Night \nWikipedia content re-released under CC-BY-SA.https://creativecommons.org/licenses/by-sa/3.0/ \nThis calendar is provided by WebCal.Guru https://www.webcal.guru/. \nContent createdWed\, 15 Apr 2026 16:33:51 +0000 \nSubscription ID–
URL:https://www.husaynia.org/event/1st-night-of-laylat-al-qadr/
CATEGORIES:Islamic Important Date
ORGANIZER;CN="Husaynia%20Islamic%20Society%20of%20Seattle":MAILTO:noreply@facebookmail.com
END:VEVENT
END:VCALENDAR